BEGIN:VCALENDAR
VERSION:2.0
PRODID:-//SWK Technologies, Inc. - ECPv5.16.3.1//NONSGML v1.0//EN
CALSCALE:GREGORIAN
METHOD:PUBLISH
X-WR-CALNAME:SWK Technologies, Inc.
X-ORIGINAL-URL:https://www.dynamictechservices.com
X-WR-CALDESC:Events for SWK Technologies, Inc.
BEGIN:VTIMEZONE
TZID:America/Halifax
BEGIN:DAYLIGHT
TZOFFSETFROM:-0400
TZOFFSETTO:-0300
TZNAME:ADT
DTSTART:20190310T060000
END:DAYLIGHT
BEGIN:STANDARD
TZOFFSETFROM:-0300
TZOFFSETTO:-0400
TZNAME:AST
DTSTART:20191103T050000
END:STANDARD
END:VTIMEZONE
BEGIN:VEVENT
DTSTART;TZID=America/Halifax:20190425T140000
DTEND;TZID=America/Halifax:20190425T150000
DTSTAMP:20260424T020640
CREATED:20190311T132331Z
LAST-MODIFIED:20190927T115644Z
UID:9333-1556200800-1556204400@www.dynamictechservices.com
SUMMARY:The Hidden Cost of Inventory Spreadsheets
DESCRIPTION:Do you struggle to reduce excess inventory while maintaining enough inventory to prevent stock-outs? \nLearn how you can avoid the hidden costs of inventory spreadsheets and maintain the lowest possible inventory value with the highest possible service to your customers. \nView the on-demand webinar and explore:\n• The importance of standardizing on multiple tools to manage business systems\n• The disadvantages of using manual methods and spreadsheets to track inventory\n• How to build business processes to improve traceability and inventory control  \nWe will discuss:\n• How SMBs manage inventory\n• The difference between inventory control and inventory replenishment\n• How you can achieve and maintain optimal inventory levels  \nFactor in the complexities of inventory management and take out error-prone processes to improve your business today. \nView the on-demand webinar! \n \nPlease follow and like us:
URL:https://www.dynamictechservices.com/event/hidden-cost-inventory-spreadsheets/
LOCATION:Webinar
CATEGORIES:Acumatica,Dynamics SL,Webinar
ATTACH;FMTTYPE=image/jpeg:https://www.dynamictechservices.com/wp-content/uploads/2019/03/NETSTOCK-Dashboard-iPad-e1552310842527.jpeg
ORGANIZER;CN="Dynamic%20Tech%20Services":MAILTO:info@DynamicTSi.com
END:VEVENT
END:VCALENDAR